BEGIN:VCALENDAR
VERSION:2.0
PRODID:-//HRVATSKI ŠAHOVSKI SAVEZ - ECPv4.6.14.1//NONSGML v1.0//EN
CALSCALE:GREGORIAN
METHOD:PUBLISH
X-WR-CALNAME:HRVATSKI ŠAHOVSKI SAVEZ
X-ORIGINAL-URL:https://hrvatski-sahovski-savez.hr
X-WR-CALDESC:Events for HRVATSKI ŠAHOVSKI SAVEZ
BEGIN:VEVENT
DTSTART;TZID=Europe/Zagreb:20260509T100000
DTEND;TZID=Europe/Zagreb:20260509T150000
DTSTAMP:20260420T130928
CREATED:20260420T092639Z
LAST-MODIFIED:20260420T092708Z
UID:15748-1778320800-1778338800@hrvatski-sahovski-savez.hr
SUMMARY:Šahovski turnir „JOSIPOVO-2026“
DESCRIPTION:Raspis \n
URL:https://hrvatski-sahovski-savez.hr/dogadaji/sahovski-turnir-josipovo-2026/
END:VEVENT
END:VCALENDAR