BEGIN:VCALENDAR
VERSION:2.0
PRODID:-//HRVATSKI ŠAHOVSKI SAVEZ - ECPv4.6.14.1//NONSGML v1.0//EN
CALSCALE:GREGORIAN
METHOD:PUBLISH
X-WR-CALNAME:HRVATSKI ŠAHOVSKI SAVEZ
X-ORIGINAL-URL:https://hrvatski-sahovski-savez.hr
X-WR-CALDESC:Events for HRVATSKI ŠAHOVSKI SAVEZ
BEGIN:VEVENT
DTSTART;TZID=Europe/Zagreb:20260502T100000
DTEND;TZID=Europe/Zagreb:20260502T140000
DTSTAMP:20260425T151603
CREATED:20260324T152647Z
LAST-MODIFIED:20260324T152902Z
UID:15643-1777716000-1777730400@hrvatski-sahovski-savez.hr
SUMMARY:Memorijalni brzopotezni turnir IM Milan Mrđa
DESCRIPTION:Raspis \n
URL:https://hrvatski-sahovski-savez.hr/dogadaji/memorijalni-brzopotezni-turnir-im-milan-mrda/
END:VEVENT
BEGIN:VEVENT
DTSTART;TZID=Europe/Zagreb:20260502T100000
DTEND;TZID=Europe/Zagreb:20260502T140000
DTSTAMP:20260425T151603
CREATED:20260403T100750Z
LAST-MODIFIED:20260403T100750Z
UID:15709-1777716000-1777730400@hrvatski-sahovski-savez.hr
SUMMARY:Šahovski turnir povodom Dana općine Jasenovac i VRO Bljesak
DESCRIPTION:Raspis \n
URL:https://hrvatski-sahovski-savez.hr/dogadaji/sahovski-turnir-povodom-dana-opcine-jasenovac-i-vro-bljesak/
END:VEVENT
BEGIN:VEVENT
DTSTART;TZID=Europe/Zagreb:20260503T100000
DTEND;TZID=Europe/Zagreb:20260503T140000
DTSTAMP:20260425T151603
CREATED:20260216T174453Z
LAST-MODIFIED:20260216T174453Z
UID:15526-1777802400-1777816800@hrvatski-sahovski-savez.hr
SUMMARY:Memorijal "Zdenko Brkić i Pero Babić" 2026.
DESCRIPTION:Raspis \n
URL:https://hrvatski-sahovski-savez.hr/dogadaji/memorijal-zdenko-brkic-i-pero-babic-2026/
END:VEVENT
BEGIN:VEVENT
DTSTART;VALUE=DATE:20260504
DTEND;VALUE=DATE:20260511
DTSTAMP:20260425T151603
CREATED:20260212T144317Z
LAST-MODIFIED:20260212T144317Z
UID:15492-1777852800-1778457599@hrvatski-sahovski-savez.hr
SUMMARY:VRSAR CHESS OPEN 2026
DESCRIPTION:Raspis \n
URL:https://hrvatski-sahovski-savez.hr/dogadaji/vrsar-chess-open-2026/
END:VEVENT
BEGIN:VEVENT
DTSTART;TZID=Europe/Zagreb:20260509T100000
DTEND;TZID=Europe/Zagreb:20260509T150000
DTSTAMP:20260425T151603
CREATED:20260420T092639Z
LAST-MODIFIED:20260420T092708Z
UID:15748-1778320800-1778338800@hrvatski-sahovski-savez.hr
SUMMARY:Šahovski turnir „JOSIPOVO-2026“
DESCRIPTION:Raspis \n
URL:https://hrvatski-sahovski-savez.hr/dogadaji/sahovski-turnir-josipovo-2026/
END:VEVENT
BEGIN:VEVENT
DTSTART;TZID=Europe/Zagreb:20260509T163000
DTEND;TZID=Europe/Zagreb:20260509T200000
DTSTAMP:20260425T151603
CREATED:20260418T125806Z
LAST-MODIFIED:20260418T125833Z
UID:15744-1778344200-1778356800@hrvatski-sahovski-savez.hr
SUMMARY:Turnir ''Proljeće na Mrežnici''
DESCRIPTION:Raspis \n
URL:https://hrvatski-sahovski-savez.hr/dogadaji/2-turnir-proljece-na-mreznici/
END:VEVENT
BEGIN:VEVENT
DTSTART;TZID=Europe/Zagreb:20260509T170000
DTEND;TZID=Europe/Zagreb:20260510T140000
DTSTAMP:20260425T151603
CREATED:20260409T192829Z
LAST-MODIFIED:20260409T192914Z
UID:15721-1778346000-1778421600@hrvatski-sahovski-savez.hr
SUMMARY:Ženski šahovski vikend Kastav 2026
DESCRIPTION:Raspis \n
URL:https://hrvatski-sahovski-savez.hr/dogadaji/zenski-sahovski-vikend-kastav-2026/
LOCATION:Kastav
END:VEVENT
BEGIN:VEVENT
DTSTART;TZID=Europe/Zagreb:20260523T090000
DTEND;TZID=Europe/Zagreb:20260523T150000
DTSTAMP:20260425T151603
CREATED:20260423T120654Z
LAST-MODIFIED:20260423T120654Z
UID:15758-1779526800-1779548400@hrvatski-sahovski-savez.hr
SUMMARY:Brzopotezni svibanjski turnir „Koprivnica 2026.“
DESCRIPTION:Rapis \n
URL:https://hrvatski-sahovski-savez.hr/dogadaji/brzopotezni-svibanjski-turnir-koprivnica-2026/
END:VEVENT
BEGIN:VEVENT
DTSTART;VALUE=DATE:20260530
DTEND;VALUE=DATE:20260601
DTSTAMP:20260425T151603
CREATED:20260423T121918Z
LAST-MODIFIED:20260423T121918Z
UID:15762-1780099200-1780271999@hrvatski-sahovski-savez.hr
SUMMARY:Memorijani Turnir Jaokima Puškaša  – Brestje
DESCRIPTION:Raspis \n
URL:https://hrvatski-sahovski-savez.hr/dogadaji/memorijani-turnir-jaokima-puskasa-brestje/
END:VEVENT
BEGIN:VEVENT
DTSTART;TZID=Europe/Zagreb:20260606T093000
DTEND;TZID=Europe/Zagreb:20260607T130000
DTSTAMP:20260425T151603
CREATED:20260325T082929Z
LAST-MODIFIED:20260325T082929Z
UID:15660-1780738200-1780837200@hrvatski-sahovski-savez.hr
SUMMARY:Kadetski i juniorski turnir VIII. memorijal Stjepana Kamenečkog
DESCRIPTION:Raspis \n
URL:https://hrvatski-sahovski-savez.hr/dogadaji/kadetski-i-juniorski-turnir-viii-memorijal-stjepana-kameneckog/
END:VEVENT
BEGIN:VEVENT
DTSTART;VALUE=DATE:20260613
DTEND;VALUE=DATE:20260622
DTSTAMP:20260425T151603
CREATED:20260316T135629Z
LAST-MODIFIED:20260316T135629Z
UID:15625-1781308800-1782086399@hrvatski-sahovski-savez.hr
SUMMARY:MEĐUNARODNI ŠAHOVSKI TURNIR 38. OPEN PULA 2026.
DESCRIPTION:Raspis \nRegulations \nBando Ufficiale \nOffizielle Ausschreibung \n
URL:https://hrvatski-sahovski-savez.hr/dogadaji/medunarodni-sahovski-turnir-38-open-pula-2026/
LOCATION:Pula\, Croatia (Local Name: Hrvatska)
END:VEVENT
BEGIN:VEVENT
DTSTART;VALUE=DATE:20260821
DTEND;VALUE=DATE:20260828
DTSTAMP:20260425T151603
CREATED:20260312T111255Z
LAST-MODIFIED:20260312T111255Z
UID:15612-1787270400-1787875199@hrvatski-sahovski-savez.hr
SUMMARY:Open Gradište 2026
DESCRIPTION:Raspis \n
URL:https://hrvatski-sahovski-savez.hr/dogadaji/open-gradiste-2026/
END:VEVENT
BEGIN:VEVENT
DTSTART;VALUE=DATE:20260822
DTEND;VALUE=DATE:20260830
DTSTAMP:20260425T151603
CREATED:20260311T193539Z
LAST-MODIFIED:20260311T193609Z
UID:15599-1787356800-1788047999@hrvatski-sahovski-savez.hr
SUMMARY:18. OPEN HUM NA SUTLI 2026
DESCRIPTION: \nRapis \n
URL:https://hrvatski-sahovski-savez.hr/dogadaji/18-open-hum-na-sutli-2026/
END:VEVENT
BEGIN:VEVENT
DTSTART;TZID=Europe/Zagreb:20260822T170000
DTEND;TZID=Europe/Zagreb:20260829T170000
DTSTAMP:20260425T151603
CREATED:20260414T200716Z
LAST-MODIFIED:20260414T200716Z
UID:15731-1787418000-1788022800@hrvatski-sahovski-savez.hr
SUMMARY:ZADAR CHESS FESTIVAL
DESCRIPTION:Raspis \nA – turnir: https://s1.chess-results.com/tnr1393079.aspx?lan=1&flag=30&turdet=NO&SNode=S0\nB – turnir: https://s3.chess-results.com/tnr1393080.aspx?lan=1&art=0&turdet=YES&flag=30&SNode=So\nC – turnir: https://s1.chess-results.com/tnr1393083.aspx?lan=1&art=0&turdet=YES&flag=30&SNode=S0\nBlitz turnir: https://s1.chess-results.com/tnr1393081.aspx?lan=1&art=0&turdet=YES&flag=30&SNode=S0\n \n
URL:https://hrvatski-sahovski-savez.hr/dogadaji/zadar-chess-festival/
END:VEVENT
END:VCALENDAR