BEGIN:VCALENDAR
VERSION:2.0
PRODID:-//HRVATSKI ŠAHOVSKI SAVEZ - ECPv4.6.14.1//NONSGML v1.0//EN
CALSCALE:GREGORIAN
METHOD:PUBLISH
X-WR-CALNAME:HRVATSKI ŠAHOVSKI SAVEZ
X-ORIGINAL-URL:https://hrvatski-sahovski-savez.hr
X-WR-CALDESC:Events for HRVATSKI ŠAHOVSKI SAVEZ
BEGIN:VEVENT
DTSTART;TZID=Europe/Zagreb:20260425T090000
DTEND;TZID=Europe/Zagreb:20260425T120000
DTSTAMP:20260420T094453
CREATED:20260418T125630Z
LAST-MODIFIED:20260418T125630Z
UID:15742-1777107600-1777118400@hrvatski-sahovski-savez.hr
SUMMARY:11. turnir u šahu Rotary cluba Varaždin
DESCRIPTION:Raspis \n
URL:https://hrvatski-sahovski-savez.hr/dogadaji/11-turnir-u-sahu-rotary-cluba-varazdin/
END:VEVENT
END:VCALENDAR